BEGIN:VCALENDAR
VERSION:2.0
PRODID:-//PranaScience - ECPv6.15.20//NONSGML v1.0//EN
CALSCALE:GREGORIAN
METHOD:PUBLISH
X-WR-CALNAME:PranaScience
X-ORIGINAL-URL:https://pranascience.com
X-WR-CALDESC:Events for PranaScience
REFRESH-INTERVAL;VALUE=DURATION:PT1H
X-Robots-Tag:noindex
X-PUBLISHED-TTL:PT1H
BEGIN:VTIMEZONE
TZID:America/Halifax
BEGIN:DAYLIGHT
TZOFFSETFROM:-0400
TZOFFSETTO:-0300
TZNAME:ADT
DTSTART:20240310T060000
END:DAYLIGHT
BEGIN:STANDARD
TZOFFSETFROM:-0300
TZOFFSETTO:-0400
TZNAME:AST
DTSTART:20241103T050000
END:STANDARD
BEGIN:DAYLIGHT
TZOFFSETFROM:-0400
TZOFFSETTO:-0300
TZNAME:ADT
DTSTART:20250309T060000
END:DAYLIGHT
BEGIN:STANDARD
TZOFFSETFROM:-0300
TZOFFSETTO:-0400
TZNAME:AST
DTSTART:20251102T050000
END:STANDARD
BEGIN:DAYLIGHT
TZOFFSETFROM:-0400
TZOFFSETTO:-0300
TZNAME:ADT
DTSTART:20260308T060000
END:DAYLIGHT
BEGIN:STANDARD
TZOFFSETFROM:-0300
TZOFFSETTO:-0400
TZNAME:AST
DTSTART:20261101T050000
END:STANDARD
END:VTIMEZONE
BEGIN:VEVENT
DTSTART;TZID=America/Halifax:20250824T130000
DTEND;TZID=America/Halifax:20250824T143000
DTSTAMP:20260425T135926
CREATED:20250821T032138Z
LAST-MODIFIED:20250821T032138Z
UID:19044-1756040400-1756045800@pranascience.com
SUMMARY:Science of Pranayama with Dr.Sundar Balasubramanian
DESCRIPTION:
URL:https://pranascience.com/event/science-of-pranayama-with-dr-sundar-balasubramanian/
END:VEVENT
END:VCALENDAR